0.350000
0.000000
-0.000000
-0.350000
124600.175000
3716999.825000
