0.350000
0.000000
-0.000000
-0.350000
128800.175000
3721199.825000
