0.350000
0.000000
-0.000000
-0.350000
130200.175000
3728199.825000
