0.350000
0.000000
-0.000000
-0.350000
142800.175000
3737999.825000
