0.350000
0.000000
-0.000000
-0.350000
148400.175000
3744999.825000
