0.350000
0.000000
-0.000000
-0.350000
149800.175000
3747799.825000
