0.350000
0.000000
-0.000000
-0.350000
155400.175000
3746399.825000
