0.350000
0.000000
-0.000000
-0.350000
222600.175000
3750599.825000
