0.350000
0.000000
-0.000000
-0.350000
226800.175000
3754799.825000
