0.350000
0.000000
-0.000000
-0.350000
261800.175000
3812199.825000
