0.350000
0.000000
-0.000000
-0.350000
271600.175000
3820599.825000
