0.350000
0.000000
-0.000000
-0.350000
274400.175000
3821999.825000
