0.350000
0.000000
-0.000000
-0.350000
277200.175000
3821999.825000
