0.350000
0.000000
-0.000000
-0.350000
313600.175000
3842999.825000
