0.350000
0.000000
-0.000000
-0.350000
322000.175000
3840199.825000
