0.350000
0.000000
-0.000000
-0.350000
331800.175000
3845799.825000
