0.350000
0.000000
-0.000000
-0.350000
362600.175000
3834599.825000
