0.350000
0.000000
-0.000000
-0.350000
373800.175000
3851399.825000
