0.350000
0.000000
-0.000000
-0.350000
387800.175000
3869599.825000
