0.350000
0.000000
-0.000000
-0.350000
390600.175000
3868199.825000
