0.350000
0.000000
-0.000000
-0.350000
401800.175000
3882199.825000
