0.350000
0.000000
-0.000000
-0.350000
410200.175000
3883599.825000
