0.350000
0.000000
-0.000000
-0.350000
414400.175000
4068399.825000
