0.350000
0.000000
-0.000000
-0.350000
417200.175000
4065599.825000
