0.350000
0.000000
-0.000000
-0.350000
418600.175000
3891999.825000
