0.350000
0.000000
-0.000000
-0.350000
420000.175000
4031999.825000
