0.350000
0.000000
-0.000000
-0.350000
422800.175000
4033399.825000
