0.350000
0.000000
-0.000000
-0.350000
429800.175000
4003999.825000
