0.350000
0.000000
0.000000
-0.350000
431200.175000
4131399.825000
