0.350000
0.000000
-0.000000
-0.350000
432600.175000
3897599.825000
