0.350000
0.000000
-0.000000
-0.350000
436800.175000
3991399.825000
