0.350000
0.000000
-0.000000
-0.350000
438200.175000
3992799.825000
