0.350000
0.000000
-0.000000
-0.350000
439600.175000
3978799.825000
