0.350000
0.000000
-0.000000
-0.350000
441000.175000
3904599.825000
