0.350000
0.000000
-0.000000
-0.350000
442400.175000
3900399.825000
