0.350000
0.000000
-0.000000
-0.350000
443800.175000
3963399.825000
