0.350000
0.000000
0.000000
-0.350000
446600.175000
4156599.825000
