0.350000
0.000000
-0.000000
-0.350000
449400.175000
3898999.825000
