0.350000
0.000000
-0.000000
-0.350000
452200.175000
3903199.825000
