0.350000
0.000000
0.000000
-0.350000
455000.175000
4191599.825000
