0.350000
0.000000
-0.000000
-0.350000
456400.175000
3942399.825000
