0.350000
0.000000
-0.000000
-0.350000
457800.175000
3931199.825000
