0.350000
0.000000
0.000000
-0.350000
463400.175000
4190199.825000
