0.350000
0.000000
0.000000
-0.350000
466200.175000
4188799.825000
