0.350000
0.000000
0.000000
-0.350000
466200.175000
4330199.825000
