0.350000
0.000000
0.000000
-0.350000
471800.175000
4355399.825000
