0.350000
0.000000
0.000000
-0.350000
474600.175000
4205599.825000
