0.350000
0.000000
0.000000
-0.350000
476000.175000
4300799.825000
