0.350000
0.000000
0.000000
-0.350000
477400.175000
4352599.825000
