0.350000
0.000000
0.000000
-0.350000
478800.175000
4216799.825000
